BEGIN:VCALENDAR
VERSION:2.0
PRODID:-//Freiwilligenakademie OWL - ECPv6.15.20//NONSGML v1.0//EN
CALSCALE:GREGORIAN
METHOD:PUBLISH
X-ORIGINAL-URL:https://freiwillige-owl.de
X-WR-CALDESC:Veranstaltungen für Freiwilligenakademie OWL
REFRESH-INTERVAL;VALUE=DURATION:PT1H
X-Robots-Tag:noindex
X-PUBLISHED-TTL:PT1H
BEGIN:VTIMEZONE
TZID:Europe/Berlin
BEGIN:DAYLIGHT
TZOFFSETFROM:+0100
TZOFFSETTO:+0200
TZNAME:CEST
DTSTART:20240331T010000
END:DAYLIGHT
BEGIN:STANDARD
TZOFFSETFROM:+0200
TZOFFSETTO:+0100
TZNAME:CET
DTSTART:20241027T010000
END:STANDARD
BEGIN:DAYLIGHT
TZOFFSETFROM:+0100
TZOFFSETTO:+0200
TZNAME:CEST
DTSTART:20250330T010000
END:DAYLIGHT
BEGIN:STANDARD
TZOFFSETFROM:+0200
TZOFFSETTO:+0100
TZNAME:CET
DTSTART:20251026T010000
END:STANDARD
BEGIN:DAYLIGHT
TZOFFSETFROM:+0100
TZOFFSETTO:+0200
TZNAME:CEST
DTSTART:20260329T010000
END:DAYLIGHT
BEGIN:STANDARD
TZOFFSETFROM:+0200
TZOFFSETTO:+0100
TZNAME:CET
DTSTART:20261025T010000
END:STANDARD
END:VTIMEZONE
BEGIN:VEVENT
DTSTART;TZID=Europe/Berlin:20250217T150000
DTEND;TZID=Europe/Berlin:20250217T181500
DTSTAMP:20260425T231141
CREATED:20250124T233840Z
LAST-MODIFIED:20250130T194444Z
UID:4258-1739804400-1739816100@freiwillige-owl.de
SUMMARY:Engagment tut mir gut
DESCRIPTION:Wir erleben einen Tag voller Kreativität in der der Bewegung\,\nim Gespräch und in Aktion beim Malen und Collagieren\nWir werden uns an diesem Tag theoretisch und praktisch mit\ndem Thema „freiwilliges Engagement“ auseinandersetzen\,\neigene Möglichkeiten\, Ressourcen und Fähigkeiten spielerisch\nund malerisch entdecken nach dem Motto „was mir gut tut“.
URL:https://freiwillige-owl.de/termine/engagment-tut-mir-gut/
CATEGORIES:Fortbildung
END:VEVENT
END:VCALENDAR