BEGIN:VCALENDAR
VERSION:2.0
PRODID:-//Freiwilligenakademie OWL - ECPv6.15.20//NONSGML v1.0//EN
CALSCALE:GREGORIAN
METHOD:PUBLISH
X-ORIGINAL-URL:https://freiwillige-owl.de
X-WR-CALDESC:Veranstaltungen für Freiwilligenakademie OWL
REFRESH-INTERVAL;VALUE=DURATION:PT1H
X-Robots-Tag:noindex
X-PUBLISHED-TTL:PT1H
BEGIN:VTIMEZONE
TZID:Europe/Berlin
BEGIN:DAYLIGHT
TZOFFSETFROM:+0100
TZOFFSETTO:+0200
TZNAME:CEST
DTSTART:20240331T010000
END:DAYLIGHT
BEGIN:STANDARD
TZOFFSETFROM:+0200
TZOFFSETTO:+0100
TZNAME:CET
DTSTART:20241027T010000
END:STANDARD
BEGIN:DAYLIGHT
TZOFFSETFROM:+0100
TZOFFSETTO:+0200
TZNAME:CEST
DTSTART:20250330T010000
END:DAYLIGHT
BEGIN:STANDARD
TZOFFSETFROM:+0200
TZOFFSETTO:+0100
TZNAME:CET
DTSTART:20251026T010000
END:STANDARD
BEGIN:DAYLIGHT
TZOFFSETFROM:+0100
TZOFFSETTO:+0200
TZNAME:CEST
DTSTART:20260329T010000
END:DAYLIGHT
BEGIN:STANDARD
TZOFFSETFROM:+0200
TZOFFSETTO:+0100
TZNAME:CET
DTSTART:20261025T010000
END:STANDARD
END:VTIMEZONE
BEGIN:VEVENT
DTSTART;TZID=Europe/Berlin:20250224T150000
DTEND;TZID=Europe/Berlin:20250224T171500
DTSTAMP:20260425T213726
CREATED:20250124T233840Z
LAST-MODIFIED:20250130T194412Z
UID:4275-1740409200-1740417300@freiwillige-owl.de
SUMMARY:Aufwachsen mit digitalen Medien
DESCRIPTION:Kinder wachsen heute früh mit (digitalen) Medien auf\, sie gehören\nzu ihrer Lebenswelt dazu. Die Familie ist dabei zumeist der erste\nOrt\, an dem die Weichen für die Mediennutzung gestellt werden.\nDieses Seminar gibt Einblicke in die Medienwelt von Kindern und\nbietet Orientierungshilfen für die gemeinsame Medienerkundung\nund Medienkompetenzförderung.\nIn diesem Seminar beschäftigen wir uns mit diesen Fragen: Wie\nkönnen Kinder im Umgang mit Medien unterstützt und begleitet\nwerden? Gute Medien\, schlechte Medien – Was ist gut für Kinder?\nWie kann die Medienerziehung in der Familie funktionieren?
URL:https://freiwillige-owl.de/termine/aufwachsen-mit-digitalen-medien/
CATEGORIES:Fortbildung
END:VEVENT
END:VCALENDAR