BEGIN:VCALENDAR
VERSION:2.0
PRODID:-//Freiwilligenakademie OWL - ECPv6.15.20//NONSGML v1.0//EN
CALSCALE:GREGORIAN
METHOD:PUBLISH
X-WR-CALNAME:Freiwilligenakademie OWL
X-ORIGINAL-URL:https://freiwillige-owl.de
X-WR-CALDESC:Veranstaltungen für Freiwilligenakademie OWL
REFRESH-INTERVAL;VALUE=DURATION:PT1H
X-Robots-Tag:noindex
X-PUBLISHED-TTL:PT1H
BEGIN:VTIMEZONE
TZID:Europe/Berlin
BEGIN:DAYLIGHT
TZOFFSETFROM:+0100
TZOFFSETTO:+0200
TZNAME:CEST
DTSTART:20240331T010000
END:DAYLIGHT
BEGIN:STANDARD
TZOFFSETFROM:+0200
TZOFFSETTO:+0100
TZNAME:CET
DTSTART:20241027T010000
END:STANDARD
BEGIN:DAYLIGHT
TZOFFSETFROM:+0100
TZOFFSETTO:+0200
TZNAME:CEST
DTSTART:20250330T010000
END:DAYLIGHT
BEGIN:STANDARD
TZOFFSETFROM:+0200
TZOFFSETTO:+0100
TZNAME:CET
DTSTART:20251026T010000
END:STANDARD
BEGIN:DAYLIGHT
TZOFFSETFROM:+0100
TZOFFSETTO:+0200
TZNAME:CEST
DTSTART:20260329T010000
END:DAYLIGHT
BEGIN:STANDARD
TZOFFSETFROM:+0200
TZOFFSETTO:+0100
TZNAME:CET
DTSTART:20261025T010000
END:STANDARD
END:VTIMEZONE
BEGIN:VEVENT
DTSTART;TZID=Europe/Berlin:20250312T143000
DTEND;TZID=Europe/Berlin:20250312T163000
DTSTAMP:20260425T214756
CREATED:20250124T233840Z
LAST-MODIFIED:20250130T194324Z
UID:4283-1741789800-1741797000@freiwillige-owl.de
SUMMARY:Erfahrungsaustauschefür aktive KiwiBI-Freiwillige
DESCRIPTION:Die bereits aktiven Willkommensbotinnen und Treffbegleitungen\nvon „KiwiBI – Kinder willkommen in Bielefeld“ werden zu\nErfahrungsaustauschen eingeladen. Hier können sie aktuelle\nThemen der Bielefelder Eltern besprechen und sich über ihre\nTätigkeit und den Umgang mit herausfordernden Situationen\naustauschen. Neben dem Austausch werden auch spannende\nInputvorträge von externen Referent*innen angeboten.
URL:https://freiwillige-owl.de/termine/erfahrungsaustauschefuer-aktive-kiwibi-freiwillige/
CATEGORIES:Fortbildung
END:VEVENT
BEGIN:VEVENT
DTSTART;TZID=Europe/Berlin:20250312T181500
DTEND;TZID=Europe/Berlin:20250312T194500
DTSTAMP:20260425T214756
CREATED:20250124T233841Z
LAST-MODIFIED:20250130T194314Z
UID:4310-1741803300-1741808700@freiwillige-owl.de
SUMMARY:Ehrenamt "Gesetzliche Betreuung"
DESCRIPTION:Häufig ist nicht bekannt\, dass eine gesetzliche Betreuung\, d.h. die\nrechtliche Vertretung für Menschen mit psychischen Erkrankungen\noder seelischen Behinderungen\, auch ehrenamtlich übernommen\nwerden kann. In diesem Seminar wird das spannende Tätigkeitsfeld\nzwischen persönlicher Beziehung zu den Betroffenen und deren\nsachgerechter Vertretung gegenüber Behörden\, Ärzten und\nGerichten vorgestellt. Ziel des ehrenamtlichen Engagements als\nrechtliche*r Betreuer*in ist es\, den Betroffenen ein weitgehend\nSelbstbestimmtes Leben zu ermöglichen.\nWie das zum Beispiel auch bei vorliegender Demenz oder\npsychischer Erkrankung gelingen und wie man ehrenamtliche*r\nBetreuer*in werden kann\, wird in diesem Seminar aufgezeigt:\nWer benötigt die Hilfe einer gesetzlichen Betreuung?\nWer bestimmt\, ob eine Betreuung eingerichtet wird?\nWelche Aufgaben hat ein*e ehrenamtliche*r Betreuer*in?\nWelche Pflichten sind zu erfüllen?\nWo erhalte ich als ehrenamtliche*r Betreuer*in Beratung\,\nSchulung und Unterstützung?
URL:https://freiwillige-owl.de/termine/ehrenamt-gesetzliche-betreuung/
CATEGORIES:Fortbildung
END:VEVENT
END:VCALENDAR