BEGIN:VCALENDAR
VERSION:2.0
PRODID:-//Freiwilligenakademie OWL - ECPv6.15.20//NONSGML v1.0//EN
CALSCALE:GREGORIAN
METHOD:PUBLISH
X-WR-CALNAME:Freiwilligenakademie OWL
X-ORIGINAL-URL:https://freiwillige-owl.de
X-WR-CALDESC:Veranstaltungen für Freiwilligenakademie OWL
REFRESH-INTERVAL;VALUE=DURATION:PT1H
X-Robots-Tag:noindex
X-PUBLISHED-TTL:PT1H
BEGIN:VTIMEZONE
TZID:Europe/Berlin
BEGIN:DAYLIGHT
TZOFFSETFROM:+0100
TZOFFSETTO:+0200
TZNAME:CEST
DTSTART:20240331T010000
END:DAYLIGHT
BEGIN:STANDARD
TZOFFSETFROM:+0200
TZOFFSETTO:+0100
TZNAME:CET
DTSTART:20241027T010000
END:STANDARD
BEGIN:DAYLIGHT
TZOFFSETFROM:+0100
TZOFFSETTO:+0200
TZNAME:CEST
DTSTART:20250330T010000
END:DAYLIGHT
BEGIN:STANDARD
TZOFFSETFROM:+0200
TZOFFSETTO:+0100
TZNAME:CET
DTSTART:20251026T010000
END:STANDARD
BEGIN:DAYLIGHT
TZOFFSETFROM:+0100
TZOFFSETTO:+0200
TZNAME:CEST
DTSTART:20260329T010000
END:DAYLIGHT
BEGIN:STANDARD
TZOFFSETFROM:+0200
TZOFFSETTO:+0100
TZNAME:CET
DTSTART:20261025T010000
END:STANDARD
END:VTIMEZONE
BEGIN:VEVENT
DTSTART;TZID=Europe/Berlin:20250624T160000
DTEND;TZID=Europe/Berlin:20250624T180000
DTSTAMP:20260425T165710
CREATED:20250124T233840Z
LAST-MODIFIED:20250604T104453Z
UID:4284-1750780800-1750788000@freiwillige-owl.de
SUMMARY:Erfahrungsaustausch für aktive KiwiBI-Freiwillige
DESCRIPTION:Die bereits aktiven Willkommensbotinnen und Treffbegleitungen\nvon „KiwiBI – Kinder willkommen in Bielefeld“ werden zu\nErfahrungsaustauschen eingeladen. Hier können sie aktuelle\nThemen der Bielefelder Eltern besprechen und sich über ihre\nTätigkeit und den Umgang mit herausfordernden Situationen\naustauschen. Neben dem Austausch werden auch spannende\nInputvorträge von externen Referent*innen angeboten.
URL:https://freiwillige-owl.de/termine/erfahrungsaustauschefuer-aktive-kiwibi-freiwillige-2/
CATEGORIES:Fortbildung
END:VEVENT
END:VCALENDAR