BEGIN:VCALENDAR
VERSION:2.0
PRODID:-//Freiwilligenakademie OWL - ECPv6.15.20//NONSGML v1.0//EN
CALSCALE:GREGORIAN
METHOD:PUBLISH
X-WR-CALNAME:Freiwilligenakademie OWL
X-ORIGINAL-URL:https://freiwillige-owl.de
X-WR-CALDESC:Veranstaltungen für Freiwilligenakademie OWL
REFRESH-INTERVAL;VALUE=DURATION:PT1H
X-Robots-Tag:noindex
X-PUBLISHED-TTL:PT1H
BEGIN:VTIMEZONE
TZID:Europe/Berlin
BEGIN:DAYLIGHT
TZOFFSETFROM:+0100
TZOFFSETTO:+0200
TZNAME:CEST
DTSTART:20240331T010000
END:DAYLIGHT
BEGIN:STANDARD
TZOFFSETFROM:+0200
TZOFFSETTO:+0100
TZNAME:CET
DTSTART:20241027T010000
END:STANDARD
BEGIN:DAYLIGHT
TZOFFSETFROM:+0100
TZOFFSETTO:+0200
TZNAME:CEST
DTSTART:20250330T010000
END:DAYLIGHT
BEGIN:STANDARD
TZOFFSETFROM:+0200
TZOFFSETTO:+0100
TZNAME:CET
DTSTART:20251026T010000
END:STANDARD
BEGIN:DAYLIGHT
TZOFFSETFROM:+0100
TZOFFSETTO:+0200
TZNAME:CEST
DTSTART:20260329T010000
END:DAYLIGHT
BEGIN:STANDARD
TZOFFSETFROM:+0200
TZOFFSETTO:+0100
TZNAME:CET
DTSTART:20261025T010000
END:STANDARD
END:VTIMEZONE
BEGIN:VEVENT
DTSTART;TZID=Europe/Berlin:20250901T160000
DTEND;TZID=Europe/Berlin:20250901T180000
DTSTAMP:20260425T122335
CREATED:20250124T233840Z
LAST-MODIFIED:20250604T104053Z
UID:4289-1756742400-1756749600@freiwillige-owl.de
SUMMARY:Informationsveranstaltung ListenUp – Jetzt sind wir dran!
DESCRIPTION:Die Informationsveranstaltung richtet sich an alle Freiwilligen\,\ndie sich in der politischen Bildungsarbeit mit Kindern und\nJugendlichen in den Bielefelder Stadtteilen Brackwede\, Stieghorst\, Sieker und Baumheide engagieren möchten.\nSie erfahren\, wie Ihr Engagement aussehen kann\, mit welchen\nEinrichtungen wir kooperieren und welche Aspekte bei der\npolitischen Bildungsarbeit mit jungen Menschen wichtig sind.\nAußerdem informieren wir Sie über die Rahmenbedingungen\neines Engagements bei der AWO Freiwilligenakademie OWL
URL:https://freiwillige-owl.de/termine/informationsveranstaltungenlistenup-jetzt-sind-wir-dran-4/
CATEGORIES:Fortbildung
END:VEVENT
END:VCALENDAR