BEGIN:VCALENDAR
VERSION:2.0
PRODID:-//Freiwilligenakademie OWL - ECPv6.15.20//NONSGML v1.0//EN
CALSCALE:GREGORIAN
METHOD:PUBLISH
X-ORIGINAL-URL:https://freiwillige-owl.de
X-WR-CALDESC:Veranstaltungen für Freiwilligenakademie OWL
REFRESH-INTERVAL;VALUE=DURATION:PT1H
X-Robots-Tag:noindex
X-PUBLISHED-TTL:PT1H
BEGIN:VTIMEZONE
TZID:Europe/Berlin
BEGIN:DAYLIGHT
TZOFFSETFROM:+0100
TZOFFSETTO:+0200
TZNAME:CEST
DTSTART:20240331T010000
END:DAYLIGHT
BEGIN:STANDARD
TZOFFSETFROM:+0200
TZOFFSETTO:+0100
TZNAME:CET
DTSTART:20241027T010000
END:STANDARD
BEGIN:DAYLIGHT
TZOFFSETFROM:+0100
TZOFFSETTO:+0200
TZNAME:CEST
DTSTART:20250330T010000
END:DAYLIGHT
BEGIN:STANDARD
TZOFFSETFROM:+0200
TZOFFSETTO:+0100
TZNAME:CET
DTSTART:20251026T010000
END:STANDARD
BEGIN:DAYLIGHT
TZOFFSETFROM:+0100
TZOFFSETTO:+0200
TZNAME:CEST
DTSTART:20260329T010000
END:DAYLIGHT
BEGIN:STANDARD
TZOFFSETFROM:+0200
TZOFFSETTO:+0100
TZNAME:CET
DTSTART:20261025T010000
END:STANDARD
END:VTIMEZONE
BEGIN:VEVENT
DTSTART;TZID=Europe/Berlin:20251117T110000
DTEND;TZID=Europe/Berlin:20251117T130000
DTSTAMP:20260423T114607
CREATED:20250124T233840Z
LAST-MODIFIED:20250604T103630Z
UID:4271-1763377200-1763384400@freiwillige-owl.de
SUMMARY:Informationsveranstaltung für interessierte Lese-Sprach-Pat*innen
DESCRIPTION:Alle interessierten Freiwilligen besuchen eine einführende\nLese-Sprach-Pat*innen-Schulung. Hier werden\nHintergrundwissen über das Sprachförderprogramm\n„(Vor-)Lesen macht stark!“ vermittelt und Anregungen\nfür das Vorlesen in Kindertageseinrichtungen gegeben.\nDarüber hinaus werden freie Kindertageseinrichtungen\nvorgestellt und das weitere Vorgehen besprochen.
URL:https://freiwillige-owl.de/termine/informationsveranstaltungen-fuerinteressierte-lese-sprach-patinnen-5/
CATEGORIES:Fortbildung
END:VEVENT
END:VCALENDAR