BEGIN:VCALENDAR
VERSION:2.0
PRODID:-//Freiwilligenakademie OWL - ECPv6.15.20//NONSGML v1.0//EN
CALSCALE:GREGORIAN
METHOD:PUBLISH
X-WR-CALNAME:Freiwilligenakademie OWL
X-ORIGINAL-URL:https://freiwillige-owl.de
X-WR-CALDESC:Veranstaltungen für Freiwilligenakademie OWL
REFRESH-INTERVAL;VALUE=DURATION:PT1H
X-Robots-Tag:noindex
X-PUBLISHED-TTL:PT1H
BEGIN:VTIMEZONE
TZID:Europe/Berlin
BEGIN:DAYLIGHT
TZOFFSETFROM:+0100
TZOFFSETTO:+0200
TZNAME:CEST
DTSTART:20250330T010000
END:DAYLIGHT
BEGIN:STANDARD
TZOFFSETFROM:+0200
TZOFFSETTO:+0100
TZNAME:CET
DTSTART:20251026T010000
END:STANDARD
BEGIN:DAYLIGHT
TZOFFSETFROM:+0100
TZOFFSETTO:+0200
TZNAME:CEST
DTSTART:20260329T010000
END:DAYLIGHT
BEGIN:STANDARD
TZOFFSETFROM:+0200
TZOFFSETTO:+0100
TZNAME:CET
DTSTART:20261025T010000
END:STANDARD
BEGIN:DAYLIGHT
TZOFFSETFROM:+0100
TZOFFSETTO:+0200
TZNAME:CEST
DTSTART:20270328T010000
END:DAYLIGHT
BEGIN:STANDARD
TZOFFSETFROM:+0200
TZOFFSETTO:+0100
TZNAME:CET
DTSTART:20271031T010000
END:STANDARD
END:VTIMEZONE
BEGIN:VEVENT
DTSTART;TZID=Europe/Berlin:20260520T153000
DTEND;TZID=Europe/Berlin:20260520T174500
DTSTAMP:20260419T144420
CREATED:20251204T094100Z
LAST-MODIFIED:20251204T094100Z
UID:4744-1779291000-1779299100@freiwillige-owl.de
SUMMARY:Mit Bewegung älter werden
DESCRIPTION:Bewegung lässt uns gesund altern und macht Spaß – wir haben vieles selbst in der Hand! Mit diesem Motto führt Sie die Referentin theoretisch und praktisch in die vielfältigen Möglichkeiten von\nBewegungsübungen ein. Dabei wird auch ein Blick auf die eigene Gesundheit und Fitness geworfen. \nSie lernen Prinzipien für die Durchführung von Bewegungsangeboten kennen und bekommen Anregungen für die Umsetzung an die Hand. Es sind oft einfache Bewegungen\, die im Alltag gut umsetzbar sind und die Ressourcen der Senior*innen erhalten und stärken.
URL:https://freiwillige-owl.de/termine/mit-bewegung-aelter-werden-2/
LOCATION:AWO Seniorenzentrum Robert Nussbaum Haus\, Brüderstr. 16\, 32423 Minden
CATEGORIES:Fortbildung,Senior*innen
END:VEVENT
END:VCALENDAR