BEGIN:VCALENDAR
VERSION:2.0
PRODID:-//Freiwilligenakademie OWL - ECPv6.15.20//NONSGML v1.0//EN
CALSCALE:GREGORIAN
METHOD:PUBLISH
X-WR-CALNAME:Freiwilligenakademie OWL
X-ORIGINAL-URL:https://freiwillige-owl.de
X-WR-CALDESC:Veranstaltungen für Freiwilligenakademie OWL
REFRESH-INTERVAL;VALUE=DURATION:PT1H
X-Robots-Tag:noindex
X-PUBLISHED-TTL:PT1H
BEGIN:VTIMEZONE
TZID:Europe/Berlin
BEGIN:DAYLIGHT
TZOFFSETFROM:+0100
TZOFFSETTO:+0200
TZNAME:CEST
DTSTART:20250330T010000
END:DAYLIGHT
BEGIN:STANDARD
TZOFFSETFROM:+0200
TZOFFSETTO:+0100
TZNAME:CET
DTSTART:20251026T010000
END:STANDARD
BEGIN:DAYLIGHT
TZOFFSETFROM:+0100
TZOFFSETTO:+0200
TZNAME:CEST
DTSTART:20260329T010000
END:DAYLIGHT
BEGIN:STANDARD
TZOFFSETFROM:+0200
TZOFFSETTO:+0100
TZNAME:CET
DTSTART:20261025T010000
END:STANDARD
BEGIN:DAYLIGHT
TZOFFSETFROM:+0100
TZOFFSETTO:+0200
TZNAME:CEST
DTSTART:20270328T010000
END:DAYLIGHT
BEGIN:STANDARD
TZOFFSETFROM:+0200
TZOFFSETTO:+0100
TZNAME:CET
DTSTART:20271031T010000
END:STANDARD
END:VTIMEZONE
BEGIN:VEVENT
DTSTART;TZID=Europe/Berlin:20260610T153000
DTEND;TZID=Europe/Berlin:20260610T174500
DTSTAMP:20260419T162827
CREATED:20251204T094056Z
LAST-MODIFIED:20260209T100859Z
UID:4731-1781105400-1781113500@freiwillige-owl.de
SUMMARY:Starker Rücken im Engagement  mit Senior*innen
DESCRIPTION:Diese Fortbildung vermittelt sowohl theoretisch als auch praktisch Prinzipien für das rückenschonende Heben und Tragen. \nSie bekommen Anregungen für die Durchführung an die Hand. Nach dem Motto „Starker Rücken“ führt die Referentin in die vielfältigen Möglichkeiten von Bewegungsübungen ein. Sie erfahren\, wie Sie sich rückenschonend im Alltag bewegen können und wie pflegebedürftige Menschen im Rollstuhl sowie\nam Rollator begleitet werden können. Es werden Hilfestellungen aufgezeigt\, um Sicherheit in der Durchführung zu erlangen.
URL:https://freiwillige-owl.de/termine/starker-ruecken-im-engagement-mit-seniorinnen/
LOCATION:AWO Seniorenzentrum Kirchlengern\, Mittelacker 3\, 32278 Kirchlengern
CATEGORIES:Fortbildung,Senior*innen
END:VEVENT
END:VCALENDAR