BEGIN:VCALENDAR
VERSION:2.0
PRODID:-//Freiwilligenakademie OWL - ECPv6.15.20//NONSGML v1.0//EN
CALSCALE:GREGORIAN
METHOD:PUBLISH
X-ORIGINAL-URL:https://freiwillige-owl.de
X-WR-CALDESC:Veranstaltungen für Freiwilligenakademie OWL
REFRESH-INTERVAL;VALUE=DURATION:PT1H
X-Robots-Tag:noindex
X-PUBLISHED-TTL:PT1H
BEGIN:VTIMEZONE
TZID:Europe/Berlin
BEGIN:DAYLIGHT
TZOFFSETFROM:+0100
TZOFFSETTO:+0200
TZNAME:CEST
DTSTART:20250330T010000
END:DAYLIGHT
BEGIN:STANDARD
TZOFFSETFROM:+0200
TZOFFSETTO:+0100
TZNAME:CET
DTSTART:20251026T010000
END:STANDARD
BEGIN:DAYLIGHT
TZOFFSETFROM:+0100
TZOFFSETTO:+0200
TZNAME:CEST
DTSTART:20260329T010000
END:DAYLIGHT
BEGIN:STANDARD
TZOFFSETFROM:+0200
TZOFFSETTO:+0100
TZNAME:CET
DTSTART:20261025T010000
END:STANDARD
BEGIN:DAYLIGHT
TZOFFSETFROM:+0100
TZOFFSETTO:+0200
TZNAME:CEST
DTSTART:20270328T010000
END:DAYLIGHT
BEGIN:STANDARD
TZOFFSETFROM:+0200
TZOFFSETTO:+0100
TZNAME:CET
DTSTART:20271031T010000
END:STANDARD
END:VTIMEZONE
BEGIN:VEVENT
DTSTART;TZID=Europe/Berlin:20260623T160000
DTEND;TZID=Europe/Berlin:20260623T180000
DTSTAMP:20260419T163158
CREATED:20251204T094102Z
LAST-MODIFIED:20251204T094102Z
UID:4752-1782230400-1782237600@freiwillige-owl.de
SUMMARY:Erfahrungsaustausch für aktive KiwiBI-Freiwillige
DESCRIPTION:Die bereits aktiven Willkommensbotinnen und Treffbegleitungen von „KiwiBI – Kinder willkommen in Bielefeld“ werden zu Erfahrungsaustauschen eingeladen. Hier können sie aktuelle\nThemen der Bielefelder Eltern besprechen und sich über ihre Tätigkeit und den Umgang mit herausfordernden Situationen austauschen. Neben dem Austausch werden auch spannende\nInputvorträge von externen Referent*innen angeboten.
URL:https://freiwillige-owl.de/termine/erfahrungsaustausch-fuer-aktive-kiwibi-freiwillige-2/
LOCATION:Elfriede-Eilers-Zentrum\, Detmolder Str. 280\, 33605 Bielefeld
CATEGORIES:Fortbildung,Kinder, Jugendliche
END:VEVENT
END:VCALENDAR