BEGIN:VCALENDAR
VERSION:2.0
PRODID:-//Freiwilligenakademie OWL - ECPv6.15.20//NONSGML v1.0//EN
CALSCALE:GREGORIAN
METHOD:PUBLISH
X-WR-CALNAME:Freiwilligenakademie OWL
X-ORIGINAL-URL:https://freiwillige-owl.de
X-WR-CALDESC:Veranstaltungen für Freiwilligenakademie OWL
REFRESH-INTERVAL;VALUE=DURATION:PT1H
X-Robots-Tag:noindex
X-PUBLISHED-TTL:PT1H
BEGIN:VTIMEZONE
TZID:Europe/Berlin
BEGIN:DAYLIGHT
TZOFFSETFROM:+0100
TZOFFSETTO:+0200
TZNAME:CEST
DTSTART:20250330T010000
END:DAYLIGHT
BEGIN:STANDARD
TZOFFSETFROM:+0200
TZOFFSETTO:+0100
TZNAME:CET
DTSTART:20251026T010000
END:STANDARD
BEGIN:DAYLIGHT
TZOFFSETFROM:+0100
TZOFFSETTO:+0200
TZNAME:CEST
DTSTART:20260329T010000
END:DAYLIGHT
BEGIN:STANDARD
TZOFFSETFROM:+0200
TZOFFSETTO:+0100
TZNAME:CET
DTSTART:20261025T010000
END:STANDARD
BEGIN:DAYLIGHT
TZOFFSETFROM:+0100
TZOFFSETTO:+0200
TZNAME:CEST
DTSTART:20270328T010000
END:DAYLIGHT
BEGIN:STANDARD
TZOFFSETFROM:+0200
TZOFFSETTO:+0100
TZNAME:CET
DTSTART:20271031T010000
END:STANDARD
END:VTIMEZONE
BEGIN:VEVENT
DTSTART;TZID=Europe/Berlin:20260916T160000
DTEND;TZID=Europe/Berlin:20260916T180000
DTSTAMP:20260419T234202
CREATED:20251204T094104Z
LAST-MODIFIED:20251204T094104Z
UID:4764-1789574400-1789581600@freiwillige-owl.de
SUMMARY:Macht zusammen Bielefeld!
DESCRIPTION:Die Erfahrungsaustausche werden durch die Referent*innen und Assistent*innen begleitet. In einer gemütlichen Gesprächsrunde wird von Erfahrungen im  freiwilligen Engagement berichtet. \nEindrücke der vielfältigen Einsatzmöglichkeiten von „Macht zusammen Bielefeld!“ werden vorgestellt und diskutiert. Die Gesprächsrunde bietet Raum und Zeit zur Reflexion eigener\nErfahrungen und weiterer Anregungen.  \nAuch am Projekt Interessierte sind willkommen und können Antworten auf erste Fragen bekommen.
URL:https://freiwillige-owl.de/termine/macht-zusammen-bielefeld-5/
LOCATION:Elfriede-Eilers-Zentrum\, Detmolder Str. 280\, 33605 Bielefeld
CATEGORIES:Engagement für Zugewanderte,Fortbildung
END:VEVENT
END:VCALENDAR