BEGIN:VCALENDAR
VERSION:2.0
PRODID:-//Freiwilligenakademie OWL - ECPv6.15.20//NONSGML v1.0//EN
CALSCALE:GREGORIAN
METHOD:PUBLISH
X-WR-CALNAME:Freiwilligenakademie OWL
X-ORIGINAL-URL:https://freiwillige-owl.de
X-WR-CALDESC:Veranstaltungen für Freiwilligenakademie OWL
REFRESH-INTERVAL;VALUE=DURATION:PT1H
X-Robots-Tag:noindex
X-PUBLISHED-TTL:PT1H
BEGIN:VTIMEZONE
TZID:Europe/Berlin
BEGIN:DAYLIGHT
TZOFFSETFROM:+0100
TZOFFSETTO:+0200
TZNAME:CEST
DTSTART:20250330T010000
END:DAYLIGHT
BEGIN:STANDARD
TZOFFSETFROM:+0200
TZOFFSETTO:+0100
TZNAME:CET
DTSTART:20251026T010000
END:STANDARD
BEGIN:DAYLIGHT
TZOFFSETFROM:+0100
TZOFFSETTO:+0200
TZNAME:CEST
DTSTART:20260329T010000
END:DAYLIGHT
BEGIN:STANDARD
TZOFFSETFROM:+0200
TZOFFSETTO:+0100
TZNAME:CET
DTSTART:20261025T010000
END:STANDARD
BEGIN:DAYLIGHT
TZOFFSETFROM:+0100
TZOFFSETTO:+0200
TZNAME:CEST
DTSTART:20270328T010000
END:DAYLIGHT
BEGIN:STANDARD
TZOFFSETFROM:+0200
TZOFFSETTO:+0100
TZNAME:CET
DTSTART:20271031T010000
END:STANDARD
END:VTIMEZONE
BEGIN:VEVENT
DTSTART;TZID=Europe/Berlin:20260921T160000
DTEND;TZID=Europe/Berlin:20260921T181500
DTSTAMP:20260419T215607
CREATED:20251204T094105Z
LAST-MODIFIED:20251204T094105Z
UID:4768-1790006400-1790014500@freiwillige-owl.de
SUMMARY:Erzähl mir was
DESCRIPTION:Wenn Menschen erzählen\, dann finden sie eine sprachliche Form für etwas\, das sie selbst erlebt haben: ein Ereignis\, an dem sie beteiligt waren\, das einen zeitlichen Verlauf hatte und an\nbestimmten Orten stattgefunden hat.  \nDabei fließen in die Erzählung Stimmungen\, Assoziationen und innere Bilder mit ein. Erzählen ist immer Interaktion zwischen dem Erzählenden und den Zuhörenden\, es braucht die Aufmerksamkeit des Publikums. Ob freies Erzählen oder Erzählen mit Hilfsmitteln – Erzählen ermöglicht einen Zugang zu der Perspektive\, der Gedankenwelt und der Fantasie des Erzählenden. Darüber hinaus regt es Fantasie und Empathie an\, fördert die kommunikativen Kompetenzen und stärkt die Ausdrucks- und Konzentrationsfähigkeit. \nIn dieser Fortbildung befassen wir uns mit der Vielfalt unterschiedlicher Geschichtenformate\, wie beispielsweise Lügen-\, Mal-\, Endlos- oder Mitmachgeschichten\, sowie dem Einsatz von Hilfsmitteln wie Erzählwürfel\, -puzzle oder -kiesel\, bildgestütztem Erzählen oder dem Einsatz von Geschichtensäckchen. Im Fokus stehen das Erzählen für Kinder\, das gemeinsame Erfinden von Geschichten mit Kindern und die Förderung des kindlichen Erzählens.
URL:https://freiwillige-owl.de/termine/erzaehl-mir-was/
LOCATION:Elfriede-Eilers-Zentrum\, Detmolder Str. 280\, 33605 Bielefeld
CATEGORIES:Fortbildung,Kinder, Jugendliche
END:VEVENT
END:VCALENDAR