BEGIN:VCALENDAR
VERSION:2.0
PRODID:-//Freiwilligenakademie OWL - ECPv6.15.20//NONSGML v1.0//EN
CALSCALE:GREGORIAN
METHOD:PUBLISH
X-WR-CALNAME:Freiwilligenakademie OWL
X-ORIGINAL-URL:https://freiwillige-owl.de
X-WR-CALDESC:Veranstaltungen für Freiwilligenakademie OWL
REFRESH-INTERVAL;VALUE=DURATION:PT1H
X-Robots-Tag:noindex
X-PUBLISHED-TTL:PT1H
BEGIN:VTIMEZONE
TZID:Europe/Berlin
BEGIN:DAYLIGHT
TZOFFSETFROM:+0100
TZOFFSETTO:+0200
TZNAME:CEST
DTSTART:20250330T010000
END:DAYLIGHT
BEGIN:STANDARD
TZOFFSETFROM:+0200
TZOFFSETTO:+0100
TZNAME:CET
DTSTART:20251026T010000
END:STANDARD
BEGIN:DAYLIGHT
TZOFFSETFROM:+0100
TZOFFSETTO:+0200
TZNAME:CEST
DTSTART:20260329T010000
END:DAYLIGHT
BEGIN:STANDARD
TZOFFSETFROM:+0200
TZOFFSETTO:+0100
TZNAME:CET
DTSTART:20261025T010000
END:STANDARD
BEGIN:DAYLIGHT
TZOFFSETFROM:+0100
TZOFFSETTO:+0200
TZNAME:CEST
DTSTART:20270328T010000
END:DAYLIGHT
BEGIN:STANDARD
TZOFFSETFROM:+0200
TZOFFSETTO:+0100
TZNAME:CET
DTSTART:20271031T010000
END:STANDARD
END:VTIMEZONE
BEGIN:VEVENT
DTSTART;TZID=Europe/Berlin:20261007T160000
DTEND;TZID=Europe/Berlin:20261007T181500
DTSTAMP:20260419T233931
CREATED:20251204T094107Z
LAST-MODIFIED:20251204T094107Z
UID:4774-1791388800-1791396900@freiwillige-owl.de
SUMMARY:Balance halten - Umgang mit Trauernden
DESCRIPTION:Auch im Freiwilligenengagement gibt es Berührungspunkte mit Trauer und trauernden Angehörigen. Diese Fortbildung thematisiert den Umgang mit Trauernden für Freiwillige.  \nNeben dem theoretischen Fachwissen wird auch auf die persönliche Auseinandersetzung mit dem Thema „Tod und Trauer“ eingegangen\, sowie die Entwicklung einer eigenen Haltung. \nDie Referentin unterstützt die Teilnehmenden\, einen sensiblen\, offenen und ressourcenorientierten Umgang mit Trauer und Abschied zu entwickeln\, ohne die eigenen Bedürfnisse und\nGrenzen aus den Augen zu verlieren.
URL:https://freiwillige-owl.de/termine/balance-halten-umgang-mit-trauernden/
LOCATION:AWO Seniorenzentrum Frieda-Nadig Haus\, Senner Hellweg 280\, 33689 Bielefeld
CATEGORIES:Fortbildung,Senior*innen
END:VEVENT
END:VCALENDAR