BEGIN:VCALENDAR
VERSION:2.0
PRODID:-//Freiwilligenakademie OWL - ECPv6.15.20//NONSGML v1.0//EN
CALSCALE:GREGORIAN
METHOD:PUBLISH
X-WR-CALNAME:Freiwilligenakademie OWL
X-ORIGINAL-URL:https://freiwillige-owl.de
X-WR-CALDESC:Veranstaltungen für Freiwilligenakademie OWL
REFRESH-INTERVAL;VALUE=DURATION:PT1H
X-Robots-Tag:noindex
X-PUBLISHED-TTL:PT1H
BEGIN:VTIMEZONE
TZID:Europe/Berlin
BEGIN:DAYLIGHT
TZOFFSETFROM:+0100
TZOFFSETTO:+0200
TZNAME:CEST
DTSTART:20250330T010000
END:DAYLIGHT
BEGIN:STANDARD
TZOFFSETFROM:+0200
TZOFFSETTO:+0100
TZNAME:CET
DTSTART:20251026T010000
END:STANDARD
BEGIN:DAYLIGHT
TZOFFSETFROM:+0100
TZOFFSETTO:+0200
TZNAME:CEST
DTSTART:20260329T010000
END:DAYLIGHT
BEGIN:STANDARD
TZOFFSETFROM:+0200
TZOFFSETTO:+0100
TZNAME:CET
DTSTART:20261025T010000
END:STANDARD
BEGIN:DAYLIGHT
TZOFFSETFROM:+0100
TZOFFSETTO:+0200
TZNAME:CEST
DTSTART:20270328T010000
END:DAYLIGHT
BEGIN:STANDARD
TZOFFSETFROM:+0200
TZOFFSETTO:+0100
TZNAME:CET
DTSTART:20271031T010000
END:STANDARD
END:VTIMEZONE
BEGIN:VEVENT
DTSTART;TZID=Europe/Berlin:20261015T150000
DTEND;TZID=Europe/Berlin:20261015T171500
DTSTAMP:20260419T234015
CREATED:20251204T094046Z
LAST-MODIFIED:20260218T105246Z
UID:4715-1792076400-1792084500@freiwillige-owl.de
SUMMARY:Manchmal weiß ich nicht\,  wie ich reagieren soll
DESCRIPTION:In der Begleitung von Menschen mit Demenz gibt es manchmal Situationen\, die verunsichern. Wie man\nsogenanntem „herausforderndem Verhalten“ wie z.B. Verweigerung\, Aggression und extremer Unruhe\nbegegnen kann\, ist Inhalt dieser Fortbildung. \nWir erarbeiten medizinische Aspekte neben der Klärung von Gründen und Faktoren\, erhalten Methoden zur Entwicklung von Verständnis und validierendem Umgang. Außerdem informieren wir uns zum Thema\nBewegungsförderung.
URL:https://freiwillige-owl.de/termine/manchmal-weiss-ich-nicht-wie-ich-reagieren-soll-2/
LOCATION:AWO Seniorenzentrum Feierabendhaus\, Wenkenstr. 65\, 32105 Bad Salzuflen
CATEGORIES:Fortbildung,Senior*innen
END:VEVENT
END:VCALENDAR