BEGIN:VCALENDAR
VERSION:2.0
PRODID:-//Freiwilligenakademie OWL - ECPv6.15.20//NONSGML v1.0//EN
CALSCALE:GREGORIAN
METHOD:PUBLISH
X-ORIGINAL-URL:https://freiwillige-owl.de
X-WR-CALDESC:Veranstaltungen für Freiwilligenakademie OWL
REFRESH-INTERVAL;VALUE=DURATION:PT1H
X-Robots-Tag:noindex
X-PUBLISHED-TTL:PT1H
BEGIN:VTIMEZONE
TZID:Europe/Berlin
BEGIN:DAYLIGHT
TZOFFSETFROM:+0100
TZOFFSETTO:+0200
TZNAME:CEST
DTSTART:20250330T010000
END:DAYLIGHT
BEGIN:STANDARD
TZOFFSETFROM:+0200
TZOFFSETTO:+0100
TZNAME:CET
DTSTART:20251026T010000
END:STANDARD
BEGIN:DAYLIGHT
TZOFFSETFROM:+0100
TZOFFSETTO:+0200
TZNAME:CEST
DTSTART:20260329T010000
END:DAYLIGHT
BEGIN:STANDARD
TZOFFSETFROM:+0200
TZOFFSETTO:+0100
TZNAME:CET
DTSTART:20261025T010000
END:STANDARD
BEGIN:DAYLIGHT
TZOFFSETFROM:+0100
TZOFFSETTO:+0200
TZNAME:CEST
DTSTART:20270328T010000
END:DAYLIGHT
BEGIN:STANDARD
TZOFFSETFROM:+0200
TZOFFSETTO:+0100
TZNAME:CET
DTSTART:20271031T010000
END:STANDARD
END:VTIMEZONE
BEGIN:VEVENT
DTSTART;TZID=Europe/Berlin:20261027T140000
DTEND;TZID=Europe/Berlin:20261027T171500
DTSTAMP:20260419T234332
CREATED:20251204T094107Z
LAST-MODIFIED:20251204T094107Z
UID:4782-1793109600-1793121300@freiwillige-owl.de
SUMMARY:Kunsttherapie im palliativen Bereich
DESCRIPTION:Was bewegt Menschen am Lebensende?\nWie können wir die Menschen begleiten und unterstützen?\nDas Thema „Lebensende“ macht oft sprachlos. Durch das\ngestalterische Tun können Emotionen Ausdruck erhalten und\neine Brücke zu mehr Stabilität und Sicherheit bilden. \nIn dieser Fortbildung werden anhand kunsttherapeutischer Methoden praktische Übungen und theoretische Inhalte zu diesem Thema vermittelt.
URL:https://freiwillige-owl.de/termine/kunsttherapie-im-palliativen-bereich-2/
LOCATION:AWO Seniorenzentrum Baumheide\, Wacholderweg 9\, 33609 Bielefeld
CATEGORIES:Fortbildung,Senior*innen
END:VEVENT
END:VCALENDAR