BEGIN:VCALENDAR
VERSION:2.0
PRODID:-//Freiwilligenakademie OWL - ECPv6.15.20//NONSGML v1.0//EN
CALSCALE:GREGORIAN
METHOD:PUBLISH
X-ORIGINAL-URL:https://freiwillige-owl.de
X-WR-CALDESC:Veranstaltungen für Freiwilligenakademie OWL
REFRESH-INTERVAL;VALUE=DURATION:PT1H
X-Robots-Tag:noindex
X-PUBLISHED-TTL:PT1H
BEGIN:VTIMEZONE
TZID:Europe/Berlin
BEGIN:DAYLIGHT
TZOFFSETFROM:+0100
TZOFFSETTO:+0200
TZNAME:CEST
DTSTART:20240331T010000
END:DAYLIGHT
BEGIN:STANDARD
TZOFFSETFROM:+0200
TZOFFSETTO:+0100
TZNAME:CET
DTSTART:20241027T010000
END:STANDARD
BEGIN:DAYLIGHT
TZOFFSETFROM:+0100
TZOFFSETTO:+0200
TZNAME:CEST
DTSTART:20250330T010000
END:DAYLIGHT
BEGIN:STANDARD
TZOFFSETFROM:+0200
TZOFFSETTO:+0100
TZNAME:CET
DTSTART:20251026T010000
END:STANDARD
BEGIN:DAYLIGHT
TZOFFSETFROM:+0100
TZOFFSETTO:+0200
TZNAME:CEST
DTSTART:20260329T010000
END:DAYLIGHT
BEGIN:STANDARD
TZOFFSETFROM:+0200
TZOFFSETTO:+0100
TZNAME:CET
DTSTART:20261025T010000
END:STANDARD
END:VTIMEZONE
BEGIN:VEVENT
DTSTART;TZID=Europe/Berlin:20250206T160000
DTEND;TZID=Europe/Berlin:20250206T180000
DTSTAMP:20260425T213829
CREATED:20250124T233840Z
LAST-MODIFIED:20250604T105137Z
UID:4286-1738857600-1738864800@freiwillige-owl.de
SUMMARY:Informationsveranstaltung ListenUp – Jetzt sind wir dran!
DESCRIPTION:Die Informationsveranstaltung richtet sich an alle Freiwilligen\,\ndie sich in der politischen Bildungsarbeit mit Kindern und\nJugendlichen in den Bielefelder Stadtteilen Brackwede\, Stieghorst\, Sieker und Baumheide engagieren möchten.\nSie erfahren\, wie Ihr Engagement aussehen kann\, mit welchen\nEinrichtungen wir kooperieren und welche Aspekte bei der\npolitischen Bildungsarbeit mit jungen Menschen wichtig sind.\nAußerdem informieren wir Sie über die Rahmenbedingungen\neines Engagements bei der AWO Freiwilligenakademie OWL
URL:https://freiwillige-owl.de/termine/informationsveranstaltungenlistenup-jetzt-sind-wir-dran/
CATEGORIES:Fortbildung
END:VEVENT
BEGIN:VEVENT
DTSTART;TZID=Europe/Berlin:20250211T150000
DTEND;TZID=Europe/Berlin:20250211T173000
DTSTAMP:20260425T213829
CREATED:20250124T233840Z
LAST-MODIFIED:20250130T194452Z
UID:4257-1739286000-1739295000@freiwillige-owl.de
SUMMARY:Wertedialog
DESCRIPTION:Demokratische Werte sind in Debatten über Integration undBildung in aller Munde. Einerseits sind viele sich einig\, dass eineAuseinandersetzung mit Werten für das friedliche Zusammenlebenin einer freien Demokratie besonders wichtig ist. Andererseits gehtes bei Forderungen nach einer „Vermittlung unserer Werte“ häufigum die Menschen\, die ohnehin von Ausgrenzung bedroht sind.Hier setzen wir an und möchten zusammen ins Gespräch überdemokratische Werte kommen und Erfahrungen auch aus IhrenEngagements austauschen. In diesem Workshop geht esinsbesondere um den Wertedialog im Integrationsbereich.Wir probieren selbst eine Methode aus\, um über Werte zusprechen und kommen darüber gemeinsam ins Gespräch.Dabei wollen wir uns folgenden Fragen widmen: Was ist mit
URL:https://freiwillige-owl.de/termine/wertedialog/
CATEGORIES:Fortbildung
END:VEVENT
BEGIN:VEVENT
DTSTART;TZID=Europe/Berlin:20250217T150000
DTEND;TZID=Europe/Berlin:20250217T181500
DTSTAMP:20260425T213829
CREATED:20250124T233840Z
LAST-MODIFIED:20250130T194444Z
UID:4258-1739804400-1739816100@freiwillige-owl.de
SUMMARY:Engagment tut mir gut
DESCRIPTION:Wir erleben einen Tag voller Kreativität in der der Bewegung\,\nim Gespräch und in Aktion beim Malen und Collagieren\nWir werden uns an diesem Tag theoretisch und praktisch mit\ndem Thema „freiwilliges Engagement“ auseinandersetzen\,\neigene Möglichkeiten\, Ressourcen und Fähigkeiten spielerisch\nund malerisch entdecken nach dem Motto „was mir gut tut“.
URL:https://freiwillige-owl.de/termine/engagment-tut-mir-gut/
CATEGORIES:Fortbildung
END:VEVENT
BEGIN:VEVENT
DTSTART;TZID=Europe/Berlin:20250218T150000
DTEND;TZID=Europe/Berlin:20250218T170000
DTSTAMP:20260425T213829
CREATED:20250124T233840Z
LAST-MODIFIED:20250604T105236Z
UID:4267-1739890800-1739898000@freiwillige-owl.de
SUMMARY:Informationsveranstaltung für interessierte Lese-Sprach-Pat*innen
DESCRIPTION:Alle interessierten Freiwilligen besuchen eine einführende\nLese-Sprach-Pat*innen-Schulung. Hier werden\nHintergrundwissen über das Sprachförderprogramm\n„(Vor-)Lesen macht stark!“ vermittelt und Anregungen\nfür das Vorlesen in Kindertageseinrichtungen gegeben.\nDarüber hinaus werden freie Kindertageseinrichtungen\nvorgestellt und das weitere Vorgehen besprochen.
URL:https://freiwillige-owl.de/termine/informationsveranstaltungen-fuerinteressierte-lese-sprach-patinnen/
CATEGORIES:Fortbildung
END:VEVENT
BEGIN:VEVENT
DTSTART;TZID=Europe/Berlin:20250220T181500
DTEND;TZID=Europe/Berlin:20250220T194500
DTSTAMP:20260425T213829
CREATED:20250124T233841Z
LAST-MODIFIED:20250130T194424Z
UID:4308-1740075300-1740080700@freiwillige-owl.de
SUMMARY:Möglichkeiten der rechtlichen Vorsorge
DESCRIPTION:Selbstbestimmung bei Krankheit und Behinderung ist ein zentraler\nWunsch jedes Menschen. Welche rechtlichen Möglichkeiten es\ndafür gibt und wie jeder frühzeitig für den Fall der Fälle sorgen\nkann\, wird in diesem Seminar erläutert. Es informiert praxisnah\nüber die rechtlichen Grundlagen von Vorsorgevollmacht\,\nBetreuungsverfügung und Patientenverfügung und beantwortet\nfolgende Fragen:\nWas ist eine Vorsorgevollmacht und wer kann sie erteilen?\nWas ist eine Betreuungsverfügung und gesetzliche Betreuung?\nWas ist das Ehegatten-Notvertretungsrecht?\nWas ist bei einer Patient*innenverfügung zu beachten?\nWas bedeutet eine Vorsorgevollmacht für mich als Angehörige*r\noder Bevollmächtigte*r in der Praxis?\nWo erhalte ich weitergehende Informationen und Beratung?\nDiese Veranstaltung richtet sich an Angehörige\, Bevollmächtigte\nund interessierte Menschen\, die sich mit diesen elementaren\nFragestellungen auseinandersetzen möchten oder müssen.
URL:https://freiwillige-owl.de/termine/moeglichkeiten-der-rechtlichen-vorsorge/
CATEGORIES:Fortbildung
END:VEVENT
BEGIN:VEVENT
DTSTART;TZID=Europe/Berlin:20250224T150000
DTEND;TZID=Europe/Berlin:20250224T171500
DTSTAMP:20260425T213829
CREATED:20250124T233840Z
LAST-MODIFIED:20250130T194412Z
UID:4275-1740409200-1740417300@freiwillige-owl.de
SUMMARY:Aufwachsen mit digitalen Medien
DESCRIPTION:Kinder wachsen heute früh mit (digitalen) Medien auf\, sie gehören\nzu ihrer Lebenswelt dazu. Die Familie ist dabei zumeist der erste\nOrt\, an dem die Weichen für die Mediennutzung gestellt werden.\nDieses Seminar gibt Einblicke in die Medienwelt von Kindern und\nbietet Orientierungshilfen für die gemeinsame Medienerkundung\nund Medienkompetenzförderung.\nIn diesem Seminar beschäftigen wir uns mit diesen Fragen: Wie\nkönnen Kinder im Umgang mit Medien unterstützt und begleitet\nwerden? Gute Medien\, schlechte Medien – Was ist gut für Kinder?\nWie kann die Medienerziehung in der Familie funktionieren?
URL:https://freiwillige-owl.de/termine/aufwachsen-mit-digitalen-medien/
CATEGORIES:Fortbildung
END:VEVENT
END:VCALENDAR