BEGIN:VCALENDAR
VERSION:2.0
PRODID:-//Freiwilligenakademie OWL - ECPv6.15.20//NONSGML v1.0//EN
CALSCALE:GREGORIAN
METHOD:PUBLISH
X-ORIGINAL-URL:https://freiwillige-owl.de
X-WR-CALDESC:Veranstaltungen für Freiwilligenakademie OWL
REFRESH-INTERVAL;VALUE=DURATION:PT1H
X-Robots-Tag:noindex
X-PUBLISHED-TTL:PT1H
BEGIN:VTIMEZONE
TZID:Europe/Berlin
BEGIN:DAYLIGHT
TZOFFSETFROM:+0100
TZOFFSETTO:+0200
TZNAME:CEST
DTSTART:20240331T010000
END:DAYLIGHT
BEGIN:STANDARD
TZOFFSETFROM:+0200
TZOFFSETTO:+0100
TZNAME:CET
DTSTART:20241027T010000
END:STANDARD
BEGIN:DAYLIGHT
TZOFFSETFROM:+0100
TZOFFSETTO:+0200
TZNAME:CEST
DTSTART:20250330T010000
END:DAYLIGHT
BEGIN:STANDARD
TZOFFSETFROM:+0200
TZOFFSETTO:+0100
TZNAME:CET
DTSTART:20251026T010000
END:STANDARD
BEGIN:DAYLIGHT
TZOFFSETFROM:+0100
TZOFFSETTO:+0200
TZNAME:CEST
DTSTART:20260329T010000
END:DAYLIGHT
BEGIN:STANDARD
TZOFFSETFROM:+0200
TZOFFSETTO:+0100
TZNAME:CET
DTSTART:20261025T010000
END:STANDARD
END:VTIMEZONE
BEGIN:VEVENT
DTSTART;TZID=Europe/Berlin:20250407T110000
DTEND;TZID=Europe/Berlin:20250407T130000
DTSTAMP:20260425T182508
CREATED:20250124T233840Z
LAST-MODIFIED:20250604T104749Z
UID:4268-1744023600-1744030800@freiwillige-owl.de
SUMMARY:Informationsveranstaltung für interessierte Lese-Sprach-Pat*innen
DESCRIPTION:Alle interessierten Freiwilligen besuchen eine einführende\nLese-Sprach-Pat*innen-Schulung. Hier werden\nHintergrundwissen über das Sprachförderprogramm\n„(Vor-)Lesen macht stark!“ vermittelt und Anregungen\nfür das Vorlesen in Kindertageseinrichtungen gegeben.\nDarüber hinaus werden freie Kindertageseinrichtungen\nvorgestellt und das weitere Vorgehen besprochen.
URL:https://freiwillige-owl.de/termine/informationsveranstaltungen-fuerinteressierte-lese-sprach-patinnen-2/
CATEGORIES:Fortbildung
END:VEVENT
BEGIN:VEVENT
DTSTART;TZID=Europe/Berlin:20250409T153000
DTEND;TZID=Europe/Berlin:20250409T174500
DTSTAMP:20260425T182508
CREATED:20250124T233841Z
LAST-MODIFIED:20250130T194201Z
UID:4300-1744212600-1744220700@freiwillige-owl.de
SUMMARY:Starker Rücken - im Engagement mit Senioren
DESCRIPTION:Dieses Seminar vermittelt sowohl theoretisch als auch praktisch\nPrinzipien für das rückenschonende Heben und Tragen.\nSie bekommen Anregungen für die Durchführung an die Hand.\nNach dem Motto „Starker Rücken“ führt die Referentin in die\nvielfältigen Möglichkeiten von Bewegungsübungen ein.\nSie erfahren\, wie Sie sich rückenschonend im Alltag bewegen\nkönnen und wie pflegebedürftige Menschen im Rollstuhl sowie\nam Rollator begleitet werden können. Es werden Hilfestellungen\naufgezeigt\, um Sicherheit in der Durchführung zu erlangen.
URL:https://freiwillige-owl.de/termine/starker-ruecken-im-engagement-mit-senioren/
CATEGORIES:Fortbildung
END:VEVENT
BEGIN:VEVENT
DTSTART;TZID=Europe/Berlin:20250409T160000
DTEND;TZID=Europe/Berlin:20250409T173000
DTSTAMP:20260425T182508
CREATED:20250124T233840Z
LAST-MODIFIED:20250326T112842Z
UID:4265-1744214400-1744219800@freiwillige-owl.de
SUMMARY:Macht zusammen Bielefeld!
DESCRIPTION:Die Erfahrungsaustausche werden durch die Referent*innen und\nAssistent*innen begleitet. In einer gemütlichen Gesprächsrunde\nwerden Erfahrungen über das freiwillige Engagement ausgetauscht.\nEindrücke der vielfältigen Einsatzmöglichkeiten von\n„Macht zusammen Bielefeld!“ werden vorgestellt und diskutiert.\nDie Gesprächsrunde bietet Raum und Zeit zur Reflexion eigener\nErfahrungen und weiterer Anregungen.\nAuch am Projekt Interessierte sind willkommen und\nkönnen Antworten auf erste Fragen bekommen.
URL:https://freiwillige-owl.de/termine/macht-zusammen-bielefeld-3/
CATEGORIES:Fortbildung
END:VEVENT
BEGIN:VEVENT
DTSTART;TZID=Europe/Berlin:20250428T160000
DTEND;TZID=Europe/Berlin:20250428T180000
DTSTAMP:20260425T182508
CREATED:20250124T233840Z
LAST-MODIFIED:20250604T104649Z
UID:4287-1745856000-1745863200@freiwillige-owl.de
SUMMARY:Informationsveranstaltung ListenUp – Jetzt sind wir dran!
DESCRIPTION:Die Informationsveranstaltung richtet sich an alle Freiwilligen\,\ndie sich in der politischen Bildungsarbeit mit Kindern und\nJugendlichen in den Bielefelder Stadtteilen Brackwede\, Stieghorst\, Sieker und Baumheide engagieren möchten.\nSie erfahren\, wie Ihr Engagement aussehen kann\, mit welchen\nEinrichtungen wir kooperieren und welche Aspekte bei der\npolitischen Bildungsarbeit mit jungen Menschen wichtig sind.\nAußerdem informieren wir Sie über die Rahmenbedingungen\neines Engagements bei der AWO Freiwilligenakademie OWL
URL:https://freiwillige-owl.de/termine/informationsveranstaltungenlistenup-jetzt-sind-wir-dran-2/
CATEGORIES:Fortbildung
END:VEVENT
BEGIN:VEVENT
DTSTART;TZID=Europe/Berlin:20250429T140000
DTEND;TZID=Europe/Berlin:20250429T171500
DTSTAMP:20260425T182508
CREATED:20250124T233841Z
LAST-MODIFIED:20250130T194124Z
UID:4301-1745935200-1745946900@freiwillige-owl.de
SUMMARY:Kunsttherapie im palliativen Bereich
DESCRIPTION:Was bewegt Menschen am Lebensende?\nWie können wir die Menschen begleiten und unterstützen?\nDas Thema „Lebensende“ macht oft sprachlos. Durch das\ngestalterische Tun können Emotionen Ausdruck erhalten und\neine Brücke zu mehr Stabilität und Sicherheit bilden.\nIn diesem Seminar werden anhand kunsttherapeutischer Methoden\npraktische Übungen und theoretische Inhalte zu diesem Thema\nvermittelt.
URL:https://freiwillige-owl.de/termine/kunsttherapie-im-palliativen-bereich/
CATEGORIES:Fortbildung
END:VEVENT
END:VCALENDAR