BEGIN:VCALENDAR
VERSION:2.0
PRODID:-//Freiwilligenakademie OWL - ECPv6.15.20//NONSGML v1.0//EN
CALSCALE:GREGORIAN
METHOD:PUBLISH
X-WR-CALNAME:Freiwilligenakademie OWL
X-ORIGINAL-URL:https://freiwillige-owl.de
X-WR-CALDESC:Veranstaltungen für Freiwilligenakademie OWL
REFRESH-INTERVAL;VALUE=DURATION:PT1H
X-Robots-Tag:noindex
X-PUBLISHED-TTL:PT1H
BEGIN:VTIMEZONE
TZID:Europe/Berlin
BEGIN:DAYLIGHT
TZOFFSETFROM:+0100
TZOFFSETTO:+0200
TZNAME:CEST
DTSTART:20240331T010000
END:DAYLIGHT
BEGIN:STANDARD
TZOFFSETFROM:+0200
TZOFFSETTO:+0100
TZNAME:CET
DTSTART:20241027T010000
END:STANDARD
BEGIN:DAYLIGHT
TZOFFSETFROM:+0100
TZOFFSETTO:+0200
TZNAME:CEST
DTSTART:20250330T010000
END:DAYLIGHT
BEGIN:STANDARD
TZOFFSETFROM:+0200
TZOFFSETTO:+0100
TZNAME:CET
DTSTART:20251026T010000
END:STANDARD
BEGIN:DAYLIGHT
TZOFFSETFROM:+0100
TZOFFSETTO:+0200
TZNAME:CEST
DTSTART:20260329T010000
END:DAYLIGHT
BEGIN:STANDARD
TZOFFSETFROM:+0200
TZOFFSETTO:+0100
TZNAME:CET
DTSTART:20261025T010000
END:STANDARD
END:VTIMEZONE
BEGIN:VEVENT
DTSTART;TZID=Europe/Berlin:20250513T160000
DTEND;TZID=Europe/Berlin:20250513T173000
DTSTAMP:20260425T170815
CREATED:20250124T233840Z
LAST-MODIFIED:20250130T194104Z
UID:4263-1747152000-1747157400@freiwillige-owl.de
SUMMARY:Macht zusammen Bielefeld!
DESCRIPTION:Vieles ist neu – die Sprache\, die Kultur\, Bräuche und Sitten\, das\nganze deutsche System kann für Menschen mit Zuwanderungsund\nFluchtgeschichte erst einmal verwirrend sein.\nUnser Projekt „Macht zusammen Bielefeld!“ bietet Zugewanderten\nund Geflüchteten die Möglichkeit\, einfach und schnell in der\ndeutschen Gesellschaft anzukommen.\nAls Assistent*in unterstützen Sie die Referent*innen auf vielfältige\nWeise mit Ihren Kenntnissen und sprachlichen Fähigkeiten.\nFreiwillige in ihrem Engagement zu begleiten\, bei Sprachbarrieren\nund Fragestellungen zur Seite zu stehen sowie das Bekanntmachen\nverschiedenster kultureller Gruppen ist ein fester Bestandteil der\nAufgaben eines*r Assistent*in.\nÜbernehmen auch Sie diese vielfältige\, spannende Aufgabe\nund werden Sie Assistent*in von „Macht zusammen Bielefeld“!
URL:https://freiwillige-owl.de/termine/macht-zusammen-bielefeld/
CATEGORIES:Fortbildung
END:VEVENT
BEGIN:VEVENT
DTSTART;TZID=Europe/Berlin:20250521T181500
DTEND;TZID=Europe/Berlin:20250521T194500
DTSTAMP:20260425T170815
CREATED:20250124T233841Z
LAST-MODIFIED:20250130T194056Z
UID:4312-1747851300-1747856700@freiwillige-owl.de
SUMMARY:Einführung in das Betreuungsrecht
DESCRIPTION:Erwachsene Menschen\, die aufgrund von geistigen\, körperlichen\nund seelischen Behinderungen oder Erkrankungen ihre persönlichen\nAngelegenheiten nicht mehr selbst bewältigen können\, sind oft auf\ndie Unterstützung eines* einer rechtlichen Betreuer*in angewiesen.\nIn der Einführungsveranstaltung werden die Grundzüge des\nBetreuungsrechts dargestellt\, auf Rechte und Pflichten des*der\nBetreuer*in hingewiesen und die Aufgabenwahrnehmung in den\nAufgabenbereichen einer rechtlichen Betreuung näher erläutert.\nZudem werden Änderungen seit der Einführung des neuen\nBetreuungsgesetzes ab dem 01.01.2023 vorgestellt.\nDie Veranstaltung richtet sich an freiwillige Betreuer*innen und\ninteressierte Personen\, die eine rechtliche Betreuung übernommen\nhaben bzw. eine Betreuung übernehmen möchten.
URL:https://freiwillige-owl.de/termine/einfuehrung-in-das-betreuungsrecht/
CATEGORIES:Fortbildung
END:VEVENT
BEGIN:VEVENT
DTSTART;TZID=Europe/Berlin:20250522T160000
DTEND;TZID=Europe/Berlin:20250522T180000
DTSTAMP:20260425T170815
CREATED:20250124T233840Z
LAST-MODIFIED:20250604T104554Z
UID:4290-1747929600-1747936800@freiwillige-owl.de
SUMMARY:Erfahrungsaustausch für aktive Freiwillige ListenUp – Jetzt sind wir dran!
DESCRIPTION:Eingeladen sind alle aktiven Freiwilligen aus dem Projekt\n„ListenUp- jetzt sind wir dran!“ Die Erfahrungsaustausche\nbieten Möglichkeiten\, die gesammelten Erfahrungen aus\nden unterschiedlichen Stadtteilen zu bündeln\, Fragen und\nUnsicherheiten zu besprechen und gegenseitig durch intensiven\nAustausch voneinander zu profitieren. Es entstehen neue Ideen\nund Impulse\, die für das weitere Engagement hilfreich sind.
URL:https://freiwillige-owl.de/termine/erfahrungsaustausche-fuer-aktive-freiwilligelistenup-jetzt-sind-wir-dran/
CATEGORIES:Fortbildung
END:VEVENT
END:VCALENDAR