BEGIN:VCALENDAR
VERSION:2.0
PRODID:-//Freiwilligenakademie OWL - ECPv6.15.20//NONSGML v1.0//EN
CALSCALE:GREGORIAN
METHOD:PUBLISH
X-WR-CALNAME:Freiwilligenakademie OWL
X-ORIGINAL-URL:https://freiwillige-owl.de
X-WR-CALDESC:Veranstaltungen für Freiwilligenakademie OWL
REFRESH-INTERVAL;VALUE=DURATION:PT1H
X-Robots-Tag:noindex
X-PUBLISHED-TTL:PT1H
BEGIN:VTIMEZONE
TZID:Europe/Berlin
BEGIN:DAYLIGHT
TZOFFSETFROM:+0100
TZOFFSETTO:+0200
TZNAME:CEST
DTSTART:20240331T010000
END:DAYLIGHT
BEGIN:STANDARD
TZOFFSETFROM:+0200
TZOFFSETTO:+0100
TZNAME:CET
DTSTART:20241027T010000
END:STANDARD
BEGIN:DAYLIGHT
TZOFFSETFROM:+0100
TZOFFSETTO:+0200
TZNAME:CEST
DTSTART:20250330T010000
END:DAYLIGHT
BEGIN:STANDARD
TZOFFSETFROM:+0200
TZOFFSETTO:+0100
TZNAME:CET
DTSTART:20251026T010000
END:STANDARD
BEGIN:DAYLIGHT
TZOFFSETFROM:+0100
TZOFFSETTO:+0200
TZNAME:CEST
DTSTART:20260329T010000
END:DAYLIGHT
BEGIN:STANDARD
TZOFFSETFROM:+0200
TZOFFSETTO:+0100
TZNAME:CET
DTSTART:20261025T010000
END:STANDARD
END:VTIMEZONE
BEGIN:VEVENT
DTSTART;TZID=Europe/Berlin:20251111T160000
DTEND;TZID=Europe/Berlin:20251111T181500
DTSTAMP:20260421T101937
CREATED:20250124T233840Z
LAST-MODIFIED:20250130T193534Z
UID:4282-1762876800-1762884900@freiwillige-owl.de
SUMMARY:Ene mene muh - Sprachspiele Abzählreime Mitmachverse
DESCRIPTION:Sprachspiele\, Abzählreime und Mitmachverse helfen Kindern\,\nden Rhythmus einer Sprache zu entdecken\, die Lautstruktur\nund Lautbildung zu erkennen. Sie tragen zum Erfassen der\nWortbedeutung und zur Begriffsbildung bei. Sprachausdruck\nund Sprachverstehen werden spielerisch gefördert neben der\nphonologischen Bewusstheit\, die eine entscheidende Voraussetzung\nfür den Erwerb der Schriftsprache in der Schule darstellt.\nSprachspiele & Co eignen sich als kurzweilige Pausenfüller oder\nAuflockerungsübungen für zwischendurch\, regen Fantasie und\nKreativität an und fördern die kognitive Entwicklung.\nIm Seminars lernen wir unterschiedliche Sprachspiel“genres“ kennen\nund erproben deren Wirkungsweisen und Umsetzungsmöglichkeiten\nin der Kita.
URL:https://freiwillige-owl.de/termine/ene-mene-muh-sprachspiele-abzaehlreime-mitmachverse/
CATEGORIES:Fortbildung
END:VEVENT
BEGIN:VEVENT
DTSTART;TZID=Europe/Berlin:20251112T181500
DTEND;TZID=Europe/Berlin:20251112T194500
DTSTAMP:20260421T101937
CREATED:20250124T233841Z
LAST-MODIFIED:20250130T193514Z
UID:4313-1762971300-1762976700@freiwillige-owl.de
SUMMARY:Einführung in das Betreuungsrecht
DESCRIPTION:Erwachsene Menschen\, die aufgrund von geistigen\, körperlichen\nund seelischen Behinderungen oder Erkrankungen ihre persönlichen\nAngelegenheiten nicht mehr selbst bewältigen können\, sind oft auf\ndie Unterstützung eines* einer rechtlichen Betreuer*in angewiesen.\nIn der Einführungsveranstaltung werden die Grundzüge des\nBetreuungsrechts dargestellt\, auf Rechte und Pflichten des*der\nBetreuer*in hingewiesen und die Aufgabenwahrnehmung in den\nAufgabenbereichen einer rechtlichen Betreuung näher erläutert.\nZudem werden Änderungen seit der Einführung des neuen\nBetreuungsgesetzes ab dem 01.01.2023 vorgestellt.\nDie Veranstaltung richtet sich an freiwillige Betreuer*innen und\ninteressierte Personen\, die eine rechtliche Betreuung übernommen\nhaben bzw. eine Betreuung übernehmen möchten.
URL:https://freiwillige-owl.de/termine/einfuehrung-in-das-betreuungsrecht-2/
CATEGORIES:Fortbildung
END:VEVENT
BEGIN:VEVENT
DTSTART;TZID=Europe/Berlin:20251117T110000
DTEND;TZID=Europe/Berlin:20251117T130000
DTSTAMP:20260421T101937
CREATED:20250124T233840Z
LAST-MODIFIED:20250604T103630Z
UID:4271-1763377200-1763384400@freiwillige-owl.de
SUMMARY:Informationsveranstaltung für interessierte Lese-Sprach-Pat*innen
DESCRIPTION:Alle interessierten Freiwilligen besuchen eine einführende\nLese-Sprach-Pat*innen-Schulung. Hier werden\nHintergrundwissen über das Sprachförderprogramm\n„(Vor-)Lesen macht stark!“ vermittelt und Anregungen\nfür das Vorlesen in Kindertageseinrichtungen gegeben.\nDarüber hinaus werden freie Kindertageseinrichtungen\nvorgestellt und das weitere Vorgehen besprochen.
URL:https://freiwillige-owl.de/termine/informationsveranstaltungen-fuerinteressierte-lese-sprach-patinnen-5/
CATEGORIES:Fortbildung
END:VEVENT
BEGIN:VEVENT
DTSTART;TZID=Europe/Berlin:20251118T160000
DTEND;TZID=Europe/Berlin:20251118T180000
DTSTAMP:20260421T101937
CREATED:20250124T233840Z
LAST-MODIFIED:20250604T103521Z
UID:4274-1763481600-1763488800@freiwillige-owl.de
SUMMARY:Erfahrungsaustausch für aktive Lese-Sprach-Pat*innen
DESCRIPTION:Die Erfahrungsaustausche werden durch die Referent*innen\nbegleitet und bieten Raum und Zeit für inhaltliche Gespräche.\nSchwierigkeiten oder Fragen können hier auch mit den anderen\nLese-Sprach-Pat*innen besprochen werden.\nFür neue Lese-Sprach-Pat*innen besteht die Möglichkeit\, Fragen\nan erfahrene Freiwillige zu stellen. Aber auch Anregungen und\nTipps für alle werden gegeben.
URL:https://freiwillige-owl.de/termine/erfahrungsaustausche-fueraktive-lese-sprach-patinnen-3/
CATEGORIES:Fortbildung
END:VEVENT
END:VCALENDAR