BEGIN:VCALENDAR
VERSION:2.0
PRODID:-//Freiwilligenakademie OWL - ECPv6.15.20//NONSGML v1.0//EN
CALSCALE:GREGORIAN
METHOD:PUBLISH
X-WR-CALNAME:Freiwilligenakademie OWL
X-ORIGINAL-URL:https://freiwillige-owl.de
X-WR-CALDESC:Veranstaltungen für Freiwilligenakademie OWL
REFRESH-INTERVAL;VALUE=DURATION:PT1H
X-Robots-Tag:noindex
X-PUBLISHED-TTL:PT1H
BEGIN:VTIMEZONE
TZID:Europe/Berlin
BEGIN:DAYLIGHT
TZOFFSETFROM:+0100
TZOFFSETTO:+0200
TZNAME:CEST
DTSTART:20250330T010000
END:DAYLIGHT
BEGIN:STANDARD
TZOFFSETFROM:+0200
TZOFFSETTO:+0100
TZNAME:CET
DTSTART:20251026T010000
END:STANDARD
BEGIN:DAYLIGHT
TZOFFSETFROM:+0100
TZOFFSETTO:+0200
TZNAME:CEST
DTSTART:20260329T010000
END:DAYLIGHT
BEGIN:STANDARD
TZOFFSETFROM:+0200
TZOFFSETTO:+0100
TZNAME:CET
DTSTART:20261025T010000
END:STANDARD
BEGIN:DAYLIGHT
TZOFFSETFROM:+0100
TZOFFSETTO:+0200
TZNAME:CEST
DTSTART:20270328T010000
END:DAYLIGHT
BEGIN:STANDARD
TZOFFSETFROM:+0200
TZOFFSETTO:+0100
TZNAME:CET
DTSTART:20271031T010000
END:STANDARD
END:VTIMEZONE
BEGIN:VEVENT
DTSTART;TZID=Europe/Berlin:20260707T160000
DTEND;TZID=Europe/Berlin:20260707T184500
DTSTAMP:20260419T163006
CREATED:20251204T094102Z
LAST-MODIFIED:20251204T094102Z
UID:4754-1783440000-1783449900@freiwillige-owl.de
SUMMARY:Weißt du noch? Damals?
DESCRIPTION:Die Kommunikation mit Menschen mit Demenz ist häufig eine Herausforderung\, und es ist nicht immer leicht\, einen wertschätzenden und respektvollen Umgang zu finden.  \nIn dieser Fortbildung erarbeiten wir gemeinsam\, wie ein guter Umgang und eine gelingende Kommunikation gestaltet werden kann und dabei die Erinnerungen an Früher geweckt werden können. \nDurch das aktive Erinnern fühlen sich Menschen mit Demenz ernst genommen und entwickeln wieder mehr Selbstvertrauen.  \nAnhand von Fallbeispielen werden verschiedene Situationen und eventuelle Herausforderungen in den Gesprächen dargestellt. Gemeinsam werden Ideen gesammelt\, wie Erinnerungen in den\nverschiedenen Stadien einer Demenzerkrankung geweckt werden können. Es wird zu jeder Zeit genügend Raum für Fragen und Austausch sein.
URL:https://freiwillige-owl.de/termine/weisst-du-noch-damals-2/
LOCATION:AWO Seniorenzentrum Feierabendhaus\, Wenkenstr. 65\, 32105 Bad Salzuflen
CATEGORIES:Fortbildung,Senior*innen
END:VEVENT
BEGIN:VEVENT
DTSTART;TZID=Europe/Berlin:20260708T160000
DTEND;TZID=Europe/Berlin:20260708T181500
DTSTAMP:20260419T163006
CREATED:20251204T094103Z
LAST-MODIFIED:20251204T094103Z
UID:4756-1783526400-1783534500@freiwillige-owl.de
SUMMARY:Lies mir vor. Ich bin ganz Ohr!
DESCRIPTION:Vorlesen ist nicht gleich Vorlesen.\nWie kann ich einen Text sprachlich so gestalten\, dass er meine Zuhörer*innen fesselt?\nWie kann ich Sprechpausen für den Spannungsaufbau nutzen? Welche stimmlichen Tricks kann ich anwenden\, um den Figuren Leben einzuhauchen?\nWie kann ich meinen Atem und meine Stimme so trainieren\,\ndass ich mich beim Vorlesen nicht überanstrenge?\nMit welchen Methoden gelingt es mir\, mein Publikum in den Vorleseprozess einzubeziehen? \nIn dieser Fortbildung werden praxisnahe Übungen vermittelt\, mit denen jede Geschichte zu einem Hörgenuss wird.  Dazu gehören u.a. Atemübungen\, Stimmtraining sowie Vorlesedramaturgie und\nein kurzer Exkurs zu erzählerischen Mitteln.
URL:https://freiwillige-owl.de/termine/lies-mir-vor-ich-bin-ganz-ohr/
LOCATION:Elfriede-Eilers-Zentrum\, Detmolder Str. 280\, 33605 Bielefeld
CATEGORIES:Fortbildung,Kinder, Jugendliche
END:VEVENT
BEGIN:VEVENT
DTSTART;TZID=Europe/Berlin:20260715T100000
DTEND;TZID=Europe/Berlin:20260715T120000
DTSTAMP:20260419T163006
CREATED:20251204T094103Z
LAST-MODIFIED:20251204T094103Z
UID:4758-1784109600-1784116800@freiwillige-owl.de
SUMMARY:Erfahrungsaustausch für aktive Lese-Sprach-Pat*innen
DESCRIPTION:Die Erfahrungsaustausche werden durch die Referent*innen begleitet und bieten Raum und Zeit für inhaltliche Gespräche. Schwierigkeiten oder Fragen können hier auch mit den anderen\nLese-Sprach-Pat*innen besprochen werden. \nFür neue Lese-Sprach-Pat*innen besteht die Möglichkeit\, Fragen an erfahrene Freiwillige zu stellen. Aber auch Anregungen und Tipps für alle werden gegeben.
URL:https://freiwillige-owl.de/termine/erfahrungsaustausch-fuer-aktive-lese-sprach-patinnen-2/
LOCATION:Elfriede-Eilers-Zentrum\, Detmolder Str. 280\, 33605 Bielefeld
CATEGORIES:Fortbildung,Kinder, Jugendliche
END:VEVENT
END:VCALENDAR