BEGIN:VCALENDAR
VERSION:2.0
PRODID:-//Freiwilligenakademie OWL - ECPv6.15.20//NONSGML v1.0//EN
CALSCALE:GREGORIAN
METHOD:PUBLISH
X-WR-CALNAME:Freiwilligenakademie OWL
X-ORIGINAL-URL:https://freiwillige-owl.de
X-WR-CALDESC:Veranstaltungen für Freiwilligenakademie OWL
REFRESH-INTERVAL;VALUE=DURATION:PT1H
X-Robots-Tag:noindex
X-PUBLISHED-TTL:PT1H
BEGIN:VTIMEZONE
TZID:Europe/Berlin
BEGIN:DAYLIGHT
TZOFFSETFROM:+0100
TZOFFSETTO:+0200
TZNAME:CEST
DTSTART:20250330T010000
END:DAYLIGHT
BEGIN:STANDARD
TZOFFSETFROM:+0200
TZOFFSETTO:+0100
TZNAME:CET
DTSTART:20251026T010000
END:STANDARD
BEGIN:DAYLIGHT
TZOFFSETFROM:+0100
TZOFFSETTO:+0200
TZNAME:CEST
DTSTART:20260329T010000
END:DAYLIGHT
BEGIN:STANDARD
TZOFFSETFROM:+0200
TZOFFSETTO:+0100
TZNAME:CET
DTSTART:20261025T010000
END:STANDARD
BEGIN:DAYLIGHT
TZOFFSETFROM:+0100
TZOFFSETTO:+0200
TZNAME:CEST
DTSTART:20270328T010000
END:DAYLIGHT
BEGIN:STANDARD
TZOFFSETFROM:+0200
TZOFFSETTO:+0100
TZNAME:CET
DTSTART:20271031T010000
END:STANDARD
END:VTIMEZONE
BEGIN:VEVENT
DTSTART;TZID=Europe/Berlin:20260903T100000
DTEND;TZID=Europe/Berlin:20260903T120000
DTSTAMP:20260419T200700
CREATED:20251204T094103Z
LAST-MODIFIED:20251204T094103Z
UID:4760-1788429600-1788436800@freiwillige-owl.de
SUMMARY:Informationsveranstaltung für  interessierte Lese-Sprach-Pat*innen
DESCRIPTION:Alle interessierten Freiwilligen besuchen eine einführende Informationsveranstaltung für Lese-Sprach-Pat*innen. Hier werden Hintergrundwissen über das Sprachförderprogramm „(Vor-)Lesen macht stark!“\nvermittelt und Anregungen für das Vorlesen in Kindertageseinrichtungen gegeben.\nDarüber hinaus werden freie Kindertageseinrichtungen vorgestellt und das weitere Vorgehen besprochen.
URL:https://freiwillige-owl.de/termine/informationsveranstaltung-fuer-interessierte-lese-sprach-patinnen-4/
LOCATION:Elfriede-Eilers-Zentrum\, Detmolder Str. 280\, 33605 Bielefeld
CATEGORIES:Fortbildung,Kinder, Jugendliche
END:VEVENT
BEGIN:VEVENT
DTSTART;TZID=Europe/Berlin:20260916T160000
DTEND;TZID=Europe/Berlin:20260916T180000
DTSTAMP:20260419T200700
CREATED:20251204T094104Z
LAST-MODIFIED:20251204T094104Z
UID:4764-1789574400-1789581600@freiwillige-owl.de
SUMMARY:Macht zusammen Bielefeld!
DESCRIPTION:Die Erfahrungsaustausche werden durch die Referent*innen und Assistent*innen begleitet. In einer gemütlichen Gesprächsrunde wird von Erfahrungen im  freiwilligen Engagement berichtet. \nEindrücke der vielfältigen Einsatzmöglichkeiten von „Macht zusammen Bielefeld!“ werden vorgestellt und diskutiert. Die Gesprächsrunde bietet Raum und Zeit zur Reflexion eigener\nErfahrungen und weiterer Anregungen.  \nAuch am Projekt Interessierte sind willkommen und können Antworten auf erste Fragen bekommen.
URL:https://freiwillige-owl.de/termine/macht-zusammen-bielefeld-5/
LOCATION:Elfriede-Eilers-Zentrum\, Detmolder Str. 280\, 33605 Bielefeld
CATEGORIES:Engagement für Zugewanderte,Fortbildung
END:VEVENT
BEGIN:VEVENT
DTSTART;TZID=Europe/Berlin:20260917T150000
DTEND;TZID=Europe/Berlin:20260917T163000
DTSTAMP:20260419T200700
CREATED:20251204T094104Z
LAST-MODIFIED:20251204T094104Z
UID:4766-1789657200-1789662600@freiwillige-owl.de
SUMMARY:Lachen ist die beste Medizin
DESCRIPTION:In dieser Fortbildung lernen die Teilnehmer*innen Möglichkeiten der Entspannung durch Lachyoga und den Einsatz von Klangschalen kennen. \nLachyoga ist eine Kombination aus Bewegung\, Singen\, Tanzen\, Dehnen und Atemtechnik. Alle\, die offen für etwas Neues sind\, können mitmachen und diese Art der Entspannung kennenlernen. \nMit den gezeigten Übungen konzentrieren Sie sich auf sich selbst und spüren\, wie Leichtigkeit entsteht. Sie erfahren hier ebenfalls\, wie Sie auch durch den Einsatz von Klangschalen vom\nAlltag abschalten und entspannen können.
URL:https://freiwillige-owl.de/termine/lachen-ist-die-beste-medizin-2/
LOCATION:AWO Seniorenzentrum Kirchlengern\, Mittelacker 3\, 32278 Kirchlengern
CATEGORIES:Fortbildung,Senior*innen
END:VEVENT
BEGIN:VEVENT
DTSTART;TZID=Europe/Berlin:20260921T160000
DTEND;TZID=Europe/Berlin:20260921T181500
DTSTAMP:20260419T200700
CREATED:20251204T094105Z
LAST-MODIFIED:20251204T094105Z
UID:4768-1790006400-1790014500@freiwillige-owl.de
SUMMARY:Erzähl mir was
DESCRIPTION:Wenn Menschen erzählen\, dann finden sie eine sprachliche Form für etwas\, das sie selbst erlebt haben: ein Ereignis\, an dem sie beteiligt waren\, das einen zeitlichen Verlauf hatte und an\nbestimmten Orten stattgefunden hat.  \nDabei fließen in die Erzählung Stimmungen\, Assoziationen und innere Bilder mit ein. Erzählen ist immer Interaktion zwischen dem Erzählenden und den Zuhörenden\, es braucht die Aufmerksamkeit des Publikums. Ob freies Erzählen oder Erzählen mit Hilfsmitteln – Erzählen ermöglicht einen Zugang zu der Perspektive\, der Gedankenwelt und der Fantasie des Erzählenden. Darüber hinaus regt es Fantasie und Empathie an\, fördert die kommunikativen Kompetenzen und stärkt die Ausdrucks- und Konzentrationsfähigkeit. \nIn dieser Fortbildung befassen wir uns mit der Vielfalt unterschiedlicher Geschichtenformate\, wie beispielsweise Lügen-\, Mal-\, Endlos- oder Mitmachgeschichten\, sowie dem Einsatz von Hilfsmitteln wie Erzählwürfel\, -puzzle oder -kiesel\, bildgestütztem Erzählen oder dem Einsatz von Geschichtensäckchen. Im Fokus stehen das Erzählen für Kinder\, das gemeinsame Erfinden von Geschichten mit Kindern und die Förderung des kindlichen Erzählens.
URL:https://freiwillige-owl.de/termine/erzaehl-mir-was/
LOCATION:Elfriede-Eilers-Zentrum\, Detmolder Str. 280\, 33605 Bielefeld
CATEGORIES:Fortbildung,Kinder, Jugendliche
END:VEVENT
BEGIN:VEVENT
DTSTART;TZID=Europe/Berlin:20260923T153000
DTEND;TZID=Europe/Berlin:20260923T174500
DTSTAMP:20260419T200700
CREATED:20251204T094105Z
LAST-MODIFIED:20251204T094105Z
UID:4770-1790177400-1790185500@freiwillige-owl.de
SUMMARY:Bewegtes Gedächtnistraining
DESCRIPTION:In dieser Fortbildung lernen die Teilnehmenden theoretische und praktische Prinzipien für das bewegte Gedächtnistraining kennen und bekommen Anregungen für die Durchführung an die Hand. \nNach dem Motto „bewegtes Gedächtnistraining – BRAIN GYM“ führt Sie die Referentin in die vielfältigen Möglichkeiten ein. Sie erhalten spannende Informationen über die unterschiedlichen\nWirkungsweisen der einzelnen Übungen. \nEs werden Hilfestellungen aufgezeigt\, um Sicherheit in der Durchführung zu erreichen
URL:https://freiwillige-owl.de/termine/bewegtes-gedaechtnistraining/
LOCATION:AWO Seniorenzentrum Robert Nussbaum Haus\, Brüderstr. 16\, 32423 Minden
CATEGORIES:Fortbildung,Senior*innen
END:VEVENT
BEGIN:VEVENT
DTSTART;TZID=Europe/Berlin:20260930T180000
DTEND;TZID=Europe/Berlin:20260930T193000
DTSTAMP:20260419T200700
CREATED:20251204T094106Z
LAST-MODIFIED:20251204T094106Z
UID:4772-1790791200-1790796600@freiwillige-owl.de
SUMMARY:Ehrenamt „Gesetzliche Betreuung”
DESCRIPTION:Häufig ist nicht bekannt\, dass eine gesetzliche Betreuung\, d.h. die rechtliche Vertretung für Menschen mit psychischen Erkrankungen oder seelischen Behinderungen\, auch ehrenamtlich übernommen\nwerden kann. In dieser Informationsveranstaltung wird das spannende Tätigkeitsfeld zwischen persönlicher Beziehung zu den Betroffenen und deren sachgerechter Vertretung gegenüber Behörden\, Ärzten und Gerichten vorgestellt.\n Ziel des ehrenamtlichen Engagements als rechtliche*r Betreuer*in ist es\, den Betroffenen ein weitgehend selbstbestimmtes Leben zu ermöglichen.  \nWie das zum Beispiel auch bei vorliegender Demenz oder psychischer Erkrankung gelingen und wie man ehrenamtliche*r Betreuer*in werden kann\, wird in dieser Veranstaltung aufgezeigt:\nWer benötigt die Hilfe einer gesetzlichen Betreuung?\nWer bestimmt\, ob eine Betreuung eingerichtet wird?\nWelche Aufgaben hat ein*e ehrenamtliche*r Betreuer*in?\nWelche Pflichten sind zu erfüllen?\nWo erhalte ich als ehrenamtliche*r Betreuer*in Beratung\,\nSchulung und Unterstützung?
URL:https://freiwillige-owl.de/termine/ehrenamt-gesetzliche-betreuung-3/
LOCATION:AWO Frieda-Nadig-Bildungszentrum\, EG\, Raum 08\, Schillerstr. 20\, 32052 Herford
CATEGORIES:Betreuung,Fortbildung
END:VEVENT
END:VCALENDAR